BEGIN:VCALENDAR
VERSION:2.0
PRODID:-//Volksdorfer Blues Festival - ECPv5.2.0//NONSGML v1.0//EN
CALSCALE:GREGORIAN
METHOD:PUBLISH
X-WR-CALNAME:Volksdorfer Blues Festival
X-ORIGINAL-URL:https://www.volksdorfer-blues-festival.de
X-WR-CALDESC:Veranstaltungen für Volksdorfer Blues Festival
BEGIN:VTIMEZONE
TZID:Europe/Berlin
BEGIN:DAYLIGHT
TZOFFSETFROM:+0100
TZOFFSETTO:+0200
TZNAME:CEST
DTSTART:20190331T010000
END:DAYLIGHT
BEGIN:STANDARD
TZOFFSETFROM:+0200
TZOFFSETTO:+0100
TZNAME:CET
DTSTART:20191027T010000
END:STANDARD
END:VTIMEZONE
BEGIN:VEVENT
DTSTART;TZID=Europe/Berlin:20190320T200000
DTEND;TZID=Europe/Berlin:20190320T230000
DTSTAMP:20260420T143553
CREATED:20190111T011759Z
LAST-MODIFIED:20190111T012143Z
UID:1801-1553112000-1553122800@www.volksdorfer-blues-festival.de
SUMMARY:2. HumpDayBlues - 21twenty and the Big Harmonicaman
DESCRIPTION:Die Sache ist schon nach wenigen Takten klar: „21twenty“ gehen mit Ihrer Mischung aus Rhythm & Blues\, Swing und Jazz direkt ins Tanzbein und nehmen Ihre Zuhörer mit auf eine Reise von New Orleans über Nashville bis nach Chicago. \nDie fünf Musiker aus Hamburg haben sich dem Blues verschrieben und interpretieren ihre Vorbilder wie B.B. King\, T-Bone Walker oder Albert Collins modern und kraftvoll\, so dass man auch nach dem Konzert noch lange beschwingt summt und mit den Füßen wippt. \n  \nBesetzung 21 twenty \nChristian „B.B.“ Blenker – Lead Vocals & Guitars \n\nPhilipp „Flip“ Straske – Guitars & Backing Vocals\nStefan „C.C.“ Ziethen – Keyboards & Backing Vocals\nStein „Rockin“ Tumert – Bass & Backing Vocals\nMarkus „Magic“ Höne – Drums & Backing Vocals\n\nhttps://www.21twenty.de\nhttps://www.bigharmonicaman.de \nLocation \nBibliothek der Ohlendorff´schen Villa\nIm Alten Dorfe 28\, 22359 Hamburg\nwww.ohlendorffsche.de \nBarrierefreiheit: Barrierefreier Zugang zur Villa. Es stehen drei Behindertenparkplätze zur Verfügung. Weitere Parkplätze stehen auf dem Grundstück der Ohlendorff’schen Villa nicht zur Verfügung.
URL:https://www.volksdorfer-blues-festival.de/event/21twenty-and-the-big-harmonicaman-humpdayblues/
LOCATION:Ohlendorff’sche Villa\, Im Alten Dorfe 28\, Hamburg\, 22359\, Deutschland
CATEGORIES:Blues
ATTACH;FMTTYPE=image/jpeg:https://www.volksdorfer-blues-festival.de/wp-content/uploads/2019/01/21twenty.jpg
ORGANIZER;CN="Stiftung%20Ohlendorffsche%20Villa":MAILTO:buero@ohlendorffsche.de
END:VEVENT
END:VCALENDAR