BEGIN:VCALENDAR
VERSION:2.0
PRODID:-//Volksdorfer Blues Festival - ECPv5.2.0//NONSGML v1.0//EN
CALSCALE:GREGORIAN
METHOD:PUBLISH
X-WR-CALNAME:Volksdorfer Blues Festival
X-ORIGINAL-URL:https://www.volksdorfer-blues-festival.de
X-WR-CALDESC:Veranstaltungen für Volksdorfer Blues Festival
BEGIN:VTIMEZONE
TZID:Europe/Berlin
BEGIN:DAYLIGHT
TZOFFSETFROM:+0100
TZOFFSETTO:+0200
TZNAME:CEST
DTSTART:20180325T010000
END:DAYLIGHT
BEGIN:STANDARD
TZOFFSETFROM:+0200
TZOFFSETTO:+0100
TZNAME:CET
DTSTART:20181028T010000
END:STANDARD
END:VTIMEZONE
BEGIN:VEVENT
DTSTART;TZID=Europe/Berlin:20181024T200000
DTEND;TZID=Europe/Berlin:20181024T213000
DTSTAMP:20260420T120438
CREATED:20180930T231153Z
LAST-MODIFIED:20180930T231153Z
UID:704-1540411200-1540416600@www.volksdorfer-blues-festival.de
SUMMARY:Bad Temper Joe – HumpDayBlues in der Villa
DESCRIPTION:Bad Temper Joe beim HumpDayBlues in der Ohlendorff’schen Villa!\n\n\n \n\n\nBad Temper Joe – dieser Name steht für Blues. Doch man hüte sich\, den Bielefelder sofort in eine Schublade zu stecken! Man kann sich sicher sein\, wenn Bad Temper Joe sich über seiner Lap Slide Gitarre beugt und den Blues spielt\, liefert er einen herzzerreißenden\, gefühlvollen und einmaligen Sound\, der komplett sein Eigen ist. Das ist der richtige\, wahre\, aber ungewöhnliche Blues.\n\n\n \n\n\nWenn es um Blues in deutschen Landen geht\, dann führt mittlerweile kein Weg mehr an dem mürrischen Mittzwanziger vorbei. So nennt ihn das OnlineBluesmagazin Wasser-Prawda „einen der wirklich wichtigen Songwriter und Gitarristen der deutschen Bluesszene“. \n\n\n \n\n\nMit seinen Songs geht es auf eine Reise durch eine musikalische Landschaft\, die in weit abgelegenen Sümpfen und taufeuchten Wiesen verwurzelt ist\, es folgen Balladen von Liebe und Verlust\, Schicksalsschlägen\, Zerstörung\, Alchemie und schwarzem Zauber. Jubelstürme und Freudenschreie sind rar\, sind die Knochen doch schwer von der Reise und ist der Mund doch voller Staub der teuteburger Ödnis\, die Kleidung noch nass vom westfälischem Regen. Bad Temper Joe erzählt uns seine Geschichte in der Tradition der alten Bluessänger aus dem MississippiDelta\, mit der Kraft eines Mannes und seiner Gitarre.\n\n\n \n\n\nDa flüstert\, ja haucht der 1\,95m Hühne seine Texte mal leise ins Mikrofon\, bevor er sie laut\, ohne Verstärkung shoutet\, lässt die Slidegitarre aufheulen und legt dabei einen Bann über sein Publikum\, der bis zum letzten Song anhält. In der Tat mag es eine vergleichsweise einfache Musik sein\, aber gerade bei dem Bielefelder erfährt man wieder\, welch unwiderstehliche und tiefe Kraft der Blues austrahlt.\n\n\n \n\n\n“Bad Temper Joe sollte man […] als einen der wirklich wichtigen Songwriter und Gitarristen der deutschen Bluesszene betrachten.” – WasserPrawda \n\n\n \n\n\n“Besser kann man Blues nicht zelebrieren!” – BluesSites \n\n\n„Roh\, ungezügelt\, mitreißend!“ – metal.de \n\n\n \n\n\n„Klänge für Alle\, die gern einmal über den Blues-Tellerrand hinausschauen möchten!“ – RockTimes.de\n\n\n \n\n\n“[…] auf dem Weg an die Spitze der deutschen Akustikszene“ – Blues in Germany \n\n\n \n\n\n 
URL:https://www.volksdorfer-blues-festival.de/event/bad-temper-joe-humpdayblues-in-der-villa/
LOCATION:Ohlendorff’sche Villa\, Im Alten Dorfe 28\, Hamburg\, 22359\, Deutschland
CATEGORIES:Blues
ATTACH;FMTTYPE=image/jpeg:https://www.volksdorfer-blues-festival.de/wp-content/uploads/2018/09/BadTemperJoe-HumDayBlues350.jpg
ORGANIZER;CN="Volker%20Bredow%20-%20Volksdorfer%20Blues%20Festival":MAILTO:info@volksdorfer-blues-festival.de
END:VEVENT
END:VCALENDAR