BEGIN:VCALENDAR
VERSION:2.0
PRODID:-//Volksdorfer Blues Festival - ECPv5.2.0//NONSGML v1.0//EN
CALSCALE:GREGORIAN
METHOD:PUBLISH
X-WR-CALNAME:Volksdorfer Blues Festival
X-ORIGINAL-URL:https://www.volksdorfer-blues-festival.de
X-WR-CALDESC:Veranstaltungen für Volksdorfer Blues Festival
BEGIN:VTIMEZONE
TZID:Europe/Berlin
BEGIN:DAYLIGHT
TZOFFSETFROM:+0100
TZOFFSETTO:+0200
TZNAME:CEST
DTSTART:20180325T010000
END:DAYLIGHT
BEGIN:STANDARD
TZOFFSETFROM:+0200
TZOFFSETTO:+0100
TZNAME:CET
DTSTART:20181028T010000
END:STANDARD
END:VTIMEZONE
BEGIN:VEVENT
DTSTART;TZID=Europe/Berlin:20181102T190000
DTEND;TZID=Europe/Berlin:20181102T230000
DTSTAMP:20260420T133331
CREATED:20180930T163304Z
LAST-MODIFIED:20181003T181345Z
UID:653-1541185200-1541199600@www.volksdorfer-blues-festival.de
SUMMARY:Volksdorfer Blues Festival - Day I
DESCRIPTION:Musiker/Künstler\nTim Lothar & Holger ‘HoBo’ Daub
URL:https://www.volksdorfer-blues-festival.de/event/volksdorfer-blues-festival-day-i/
LOCATION:Koralle Bar & Bistro\, Kattjahren 1a\, Hamburg\, 22359\, Deutschland
CATEGORIES:Blues
ATTACH;FMTTYPE=image/jpeg:https://www.volksdorfer-blues-festival.de/wp-content/uploads/2018/09/Blues3.jpg
ORGANIZER;CN="Volker%20Bredow%20-%20Volksdorfer%20Blues%20Festival":MAILTO:info@volksdorfer-blues-festival.de
END:VEVENT
END:VCALENDAR